Workbook

Sheet 請輸入欄位
A1: 輸入以下欄位 | F1: 輸入停車資料 | J1: 輸入停車資料
A2: 1 | B2: 線上申請日期 | C2: 46078 | G2: 汽車(限2輛) | K2: 機車 | O2: 時 | Q2: 分
A3: =A2+1 -> 2 | B3: 活動名稱 | C3: 籃球活動 | G3: 車主姓名 | H3: 車牌號碼 | K3: 車主姓名 | L3: 車牌號碼 | O3: 起 | P3: 迄
A4: =A3+1 -> 3 | B4: 申請場地 | C4: 活動中心 | F4: 1 | G4: 小明 | H4: ABC-1234 | J4: =J2+1 -> 1 | K4: 小明 | L4: ABC-1234 | N4: 上午 | O4: 8 | P4: 10 | Q4: 0
A5: =A4+1 -> 4 | B5: 預計參加人數 | C5: 20人 | F5: =F4+1 -> 2 | G5: 小明 | H5: ABC-1234 | J5: =J4+1 -> 2 | K5: 小明 | L5: ABC-1234 | N5: 下午 | O5: 10 | P5: 12 | Q5: 30
B6: 申請使用年度 | C6: 115 | E6: 月份 | F6: =C7 -> 4 | G6: =F6+1 -> 5 | H6: =G6+1 -> 6 | J6: =J5+1 -> 3 | K6: 小明 | L6: ABC-1234 | P6: 1
A7: =A5+1 -> 5 | B7: 本季開始月份 (右方下拉式選單) | C7: 4 | E7: 星期 | F7: 第一天 | G7: 第一天 | H7: 第一天 | J7: =J6+1 -> 4 | K7: 小明 | L7: ABC-1234 | N7: 是 | O7: 1 | P7: 3
A8: =A7+1 -> 6 | B8: 申請場次(星期幾) (右方下拉式選單) | C8: 三 | E8: 一 | F8: =WORKDAY.INTL(DATE($C$6+1911, F$6, 0), 1, "0111111") -> 46118 | G8: =WORKDAY.INTL(DATE($C$6+1911, G$6, 0), 1, "0111111") -> 46146 | H8: =WORKDAY.INTL(DATE($C$6+1911, H$6, 0), 1, "0111111") -> 46174 | J8: =J7+1 -> 5 | K8: 小明 | L8: ABC-1234 | N8: 否 | O8: 3 | P8: 5
A9: =A8+1 -> 7 | B9: 起(上下午) (右方下拉式選單) | C9: 下午 | E9: 二 | F9: =WORKDAY.INTL(DATE($C$6+1911, F$6, 0), 1, "1011111") -> 46119 | G9: =WORKDAY.INTL(DATE($C$6+1911, G$6, 0), 1, "1011111") -> 46147 | H9: =WORKDAY.INTL(DATE($C$6+1911, H$6, 0), 1, "1011111") -> 46175 | J9: =J8+1 -> 6 | K9: 小明 | L9: ABC-1234 | O9: 7 | P9: 9
A10: =A9+1 -> 8 | B10: (時) (右方下拉式選單) | C10: 7 | E10: 三 | F10: =WORKDAY.INTL(DATE($C$6+1911, F$6, 0), 1, "1101111") -> 46113 | G10: =WORKDAY.INTL(DATE($C$6+1911, G$6, 0), 1, "1101111") -> 46148 | H10: =WORKDAY.INTL(DATE($C$6+1911, H$6, 0), 1, "1101111") -> 46176 | J10: =J9+1 -> 7 | N10: ↑此表驗證用勿動
A11: =A10+1 -> 9 | B11: (分) (自動判斷) | C11: =IF(C10=7,30,0) -> 30 | E11: 四 | F11: =WORKDAY.INTL(DATE($C$6+1911, F$6, 0), 1, "1110111") -> 46114 | G11: =WORKDAY.INTL(DATE($C$6+1911, G$6, 0), 1, "1110111") -> 46149 | H11: =WORKDAY.INTL(DATE($C$6+1911, H$6, 0), 1, "1110111") -> 46177 | J11: =J10+1 -> 8
A12: =A11+1 -> 10 | B12: 迄(上下午) (右方下拉式選單) | E12: 六 | F12: =WORKDAY.INTL(DATE($C$6+1911, F$6, 0), 1, "1111101") -> 46116 | G12: =WORKDAY.INTL(DATE($C$6+1911, G$6, 0), 1, "1111101") -> 46144 | H12: =WORKDAY.INTL(DATE($C$6+1911, H$6, 0), 1, "1111101") -> 46179 | J12: =J11+1 -> 9
A13: =A12+1 -> 11 | B13: (時) (右方下拉式選單) | C13: 9 | E13: 日 | F13: =WORKDAY.INTL(DATE($C$6+1911, F$6, 0), 1, "1111110") -> 46117 | G13: =WORKDAY.INTL(DATE($C$6+1911, G$6, 0), 1, "1111110") -> 46145 | H13: =WORKDAY.INTL(DATE($C$6+1911, H$6, 0), 1, "1111110") -> 46180 | J13: =J12+1 -> 10
A14: =A13+1 -> 12 | B14: (分) (自動判斷) | C14: =IF(C13=9,30,0) -> 30 | E14: ↑此表驗證用勿動 | J14: =J13+1 -> 11
A15: =A14+1 -> 13 | B15: 使用時間單位 (右方下拉式選單) (1單位2小時) | C15: 1 | J15: =J14+1 -> 12
A16: =A15+1 -> 14 | B16: 申請人 | C16: 小明 | E16: 1 | F16: 4 | G16: 7 | H16: 10 | J16: =J15+1 -> 13
A17: =A16+1 -> 15 | B17: 身分證統一編號 | C17: A111222333 | E17: ↑此表驗證用勿動 | J17: =J16+1 -> 14
A18: =A17+1 -> 16 | B18: 地址 | C18: 臺北市文山區景華街150巷21號 | J18: =J17+1 -> 15
A19: =A18+1 -> 17 | B19: 電話 | C19: 0900-000-000 | J19: =J18+1 -> 16
A20: =A19+1 -> 18 | B20: 空調次數 | C20: 0 | J20: =J19+1 -> 17
A21: =A20+1 -> 19 | B21: 是否沿上期保證金 (右方下拉式選單) | C21: 是 | J21: =J20+1 -> 18
A22: 20 | B22: 保證金金額 | C22: 10000 | J22: =J21+1 -> 19
J23: =J22+1 -> 20
B24: 列印說明： | C24: 選列印整本活頁簿 | E24: 選頁面2-3 雙面列印
C25: 選頁面4 單面列印(或選工作表單獨列印)
C26: 選頁面5 單面列印(或選工作表單獨列印)

Sheet 申請書
A1: 臺北市文山區景興國民小學校園場地使用申請書 | AF1: 一 | AG1: 上午 | AH1: 1
A2: 線上申請日期 | B2: =請輸入欄位!C2 -> 46078 | T2: 申請場地 | X2: =請輸入欄位!C4 -> 活動中心 | AF2: 二 | AG2: 下午 | AH2: 1.5
A3: 活動名稱 | B3: =請輸入欄位!C3 -> 籃球活動 | T3: 預計參加人數 | X3: =請輸入欄位!C5 -> 20人 | AF3: 三
A4: 使用次數計算 (灰底開空調) | B4: =請輸入欄位!C7 -> 4 | C4: 月( | D4: {=_xlfn.IFS(E17=AF1,DAY(請輸入欄位!F8),E17=AF2,DAY(請輸入欄位!F9),E17=AF3,DAY(請輸入欄位!F10),E17=AF4,DAY(請輸入欄位!F11),E17=AF5,DAY(請輸入欄位!F12),E17=AF6,DAY(請輸入欄位!F13))} -> 1 | E4: =IF(F4="","",IF(D4="","","、")) -> 、 | F4: =IF(D4+7<=DAY(DATE($G$16, $B4+1, 0)),D4+7,"") -> 8 | G4: =IF(H4="","","、") -> 、 | H4: =IF(F4="","",IF(F4+7<=DAY(DATE($G$16, $B4+1, 0)),F4+7,"")) -> 15 | I4: =IF(J4="","","、") -> 、 | J4: =IF(H4="","",IF(H4+7<=DAY(DATE($G$16, $B4+1, 0)),H4+7,"")) -> 22 | K4: =IF(L4="","","、") -> 、 | L4: =IF(J4="","",IF(J4+7<=DAY(DATE($G$16, $B4+1, 0)),J4+7,"")) -> 29 | M4: ) | N4: 日， | O4: =COUNT(D4:L4) -> 5 | P4: 次 | Q4: ， | AF4: 四
B5: =B4+1 -> 5 | C5: 月( | D5: {=_xlfn.IFS(E17=AF1,DAY(請輸入欄位!G8),E17=AF2,DAY(請輸入欄位!G9),E17=AF3,DAY(請輸入欄位!G10),E17=AF4,DAY(請輸入欄位!G11),E17=AF5,DAY(請輸入欄位!G12),E17=AF6,DAY(請輸入欄位!G13))} -> 6 | E5: =IF(F5="","",IF(D5="","","、")) -> 、 | F5: =IF(D5+7<=DAY(DATE($G$16, $B5+1, 0)),D5+7,"") -> 13 | G5: =IF(H5="","","、") -> 、 | H5: =IF(F5="","",IF(F5+7<=DAY(DATE($G$16, $B5+1, 0)),F5+7,"")) -> 20 | I5: =IF(J5="","","、") -> 、 | J5: =IF(H5="","",IF(H5+7<=DAY(DATE($G$16, $B5+1, 0)),H5+7,"")) -> 27 | K5: =IF(L5="","","、") | L5: =IF(J5="","",IF(J5+7<=DAY(DATE($G$16, $B5+1, 0)),J5+7,"")) | M5: ) | N5: 日， | O5: =COUNT(D5:L5) -> 4 | P5: 次 | Q5: ， | R5: 合計 | Z5: =O4+O5+O6 -> 13 | AA5: 次。 | AF5: 六
B6: =B5+1 -> 6 | C6: 月( | D6: {=_xlfn.IFS(E17=AF1,DAY(請輸入欄位!H8),E17=AF2,DAY(請輸入欄位!H9),E17=AF3,DAY(請輸入欄位!H10),E17=AF4,DAY(請輸入欄位!H11),E17=AF5,DAY(請輸入欄位!H12),E17=AF6,DAY(請輸入欄位!H13))} -> 3 | E6: =IF(F6="","",IF(D6="","","、")) -> 、 | F6: =IF(D6+7<=DAY(DATE($G$16, $B6+1, 0)),D6+7,"") -> 10 | G6: =IF(H6="","","、") -> 、 | H6: =IF(F6="","",IF(F6+7<=DAY(DATE($G$16, $B6+1, 0)),F6+7,"")) -> 17 | I6: =IF(J6="","","、") -> 、 | J6: =IF(H6="","",IF(H6+7<=DAY(DATE($G$16, $B6+1, 0)),H6+7,"")) -> 24 | K6: =IF(L6="","","、") | L6: =IF(J6="","",IF(J6+7<=DAY(DATE($G$16, $B6+1, 0)),J6+7,"")) | M6: ) | N6: 日， | O6: =COUNT(D6:L6) -> 4 | P6: 次 | Q6: ， | R6: 空調合計 | Z6: =請輸入欄位!C20 -> 0 | AA6: 次。 | AF6: 日
A7: 保 證 金 | H7: =IF(請輸入欄位!C21="是","沿用上一期保證金","新臺幣") -> 沿用上一期保證金 | R7: =IF(請輸入欄位!C21="是","",AB7) | X7: =IF(請輸入欄位!C21="是","","元整") | AB7: =IF(請輸入欄位!C21="是",0,請輸入欄位!C22) -> 0 | AC7: =IF(請輸入欄位!C21="是","","元") | AF7: ↑此表驗證用勿動
A8: 場地使用費計算 | B8: 依實施要點第十六條予場地七折優惠 | AB8: =W9*Z9 -> 17290 | AC8: 元
B9: 場地費 | G9: ： | H9: 1900 | K9: 元 | M9: ✕ | N9: =請輸入欄位!C15 -> 1 | O9: 單位 | Q9: =IF(Z5>=6,"✕","") -> ✕ | R9: =IF(Z5>=6,7,"") -> 7 | S9: =IF(Z5>=6,"折","") -> 折 | V9: = | W9: =IF(Z5>=6,H9*N9*R9/10,H9*N9) -> 1330 | X9: 元 | Y9: ✕ | Z9: =Z5 -> 13 | AA9: 次=
B10: （每單位2小時1900元）
B11: 電費 | G11: ： | H11: 24 | K11: 元 | M11: ✕ | N11: =IF(N9=1,2,3) -> 2 | O11: 小時 | V11: = | W11: =H11*N11 -> 48 | X11: 元 | Y11: ✕ | Z11: =Z5 -> 13 | AA11: 次= | AB11: =W11*Z11 -> 624 | AC11: 元
B12: 空調費 | G12: ： | H12: 890 | K12: 元 | M12: ✕ | N12: =IF(Z6=0,0,IF(N9=1,2,3)) -> 0 | O12: 小時 | V12: = | W12: =H12*N12 -> 0 | X12: 元 | Y12: ✕ | Z12: =Z6 -> 0 | AA12: 次= | AB12: =W12*Z12 -> 0 | AC12: 元
B13: 其他費用 | G13: ： | H13: 汽車 | K13: =臨時停車申請書!I22 -> 2 | M13: 台✕ | O13: =IF(N9=1,40,60) -> 40 | Q13: + | R13: 機車 | S13: =臨時停車申請書!I23 -> 6 | T13: 台✕ | U13: 10 | V13: = | W13: =K13*O13+S13*U13 -> 140 | X13: 元 | Y13: ✕ | Z13: =Z5 -> 13 | AA13: 次= | AB13: =W13*Z13 -> 1820 | AC13: 元
B14: 小計 | G14: ： | H14: 新臺幣 | R14: =Y14 -> 19734 | X14: 元整 | Y14: =SUM(AB8:AB13) -> 19734 | AC14: 元
A15: 收費合計 | H15: 新臺幣 | R15: =Y15 -> 19734 | X15: 元整 | Y15: =AB7+Y14 -> 19734 | AC15: 元
A16: 使用起迄時間 | B16: 自民國 | G16: =請輸入欄位!C6 -> 115 | J16: 年 | K16: =B4 -> 4 | N16: 月 | O16: =D4 -> 1 | Q16: 日 | S16: 起至 | U16: =G16 -> 115 | V16: 年 | W16: =B6 -> 6 | X16: 月 | Y16: =IF(L6="",IF(J6="",IF(H6="",IF(F6="",D6,F6),H6),J6),L6) -> 24 | AA16: 日 | AB16: 止
B17: 每星期 | E17: =請輸入欄位!C8 -> 三 | G17: =LEFT(請輸入欄位!C9,1)&" "&RIGHT(請輸入欄位!C9,1) -> 下 午 | K17: =請輸入欄位!C10 -> 7 | N17: 時 | O17: =請輸入欄位!C11 -> 30 | Q17: 分 | U17: =LEFT(請輸入欄位!C12,1)&" "&RIGHT(請輸入欄位!C12,1) | W17: =請輸入欄位!C13 -> 9 | X17: 時 | Y17: =請輸入欄位!C14 -> 30 | AA17: 分
A18: 註：學校如有特殊需要必須收回校園場地自行使用時，通知申請人終止後，得延至下季使用。
A19: 茲向 貴校借用校園場地，並應遵守下列事項：
A20: 一、使用學校提供之設備器材，使用完畢後，應如數歸還及回復原狀；其有短少或損壞，應予補足、修復或照價賠償。
A21: 二、張貼海報、宣傳標語與其他文宣品應經許可，除經學校同意外，不得使用漿糊、膠紙、圖釘或其他任何可能污損場地牆面、
A22: 地板及其他設備之物品。
A23: 三、申請人及活動參與人員攜帶之物品，應自行妥慎保管，學校不負保管之責。
A24: 四、未經學校同意，不得擅接燈光或使用電器用品。
A25: 五、搭建之台架及電器設備應經許可，使用時應符合相關法規之規定，由具有相關資格之人搭建與操作。
A26: 六、未經學校同意，不得擅自將場地之一部或全部轉讓他人使用。
A27: 七、不得使用火把、爆竹、煙火或其他危險物品。
A28: 八、在指定地點及核准時限內辦理活動。
A29: 九、於活動結束後，應即將使用之場地、設施及物品等回復原狀。
... A43: 臺北市文山區景興國民小學
B44: ■ | C44: 個人
A45: 申請人姓名 | B45: ： | C45: =請輸入欄位!C16 -> 小明 | P45: (簽章) | U45: 身分證統一編號 | Y45: ： | Z45: =請輸入欄位!C17 -> A111222333
A46: 地址 | B46: ： | C46: =請輸入欄位!C18 -> 臺北市文山區景華街150巷21號 | U46: 電話 | Y46: ： | Z46: =請輸入欄位!C19 -> 0900-000-000
A47: 承辦人 | I47: 出納 | S47: 會 計 | X47: 校 長
A48: 事務組長 | I48: 總務主任

Sheet 臨時停車申請書
A1: 臺北市文山區景興國民小學場地出租臨時停車申請書
A2: 申請人身分 | B2: 租用場地人員
A3: 線上申請日期 | B3: =申請書!B2 -> 46078 | D3: 租 用 期 間 | F3: 自民國 | H3: =申請書!$G$16 -> 115 | I3: 年 | J3: =申請書!$K$16 -> 4 | K3: 月 | L3: =申請書!$O$16 -> 1 | M3: 日 | N3: 起至 | O3: =申請書!$U$16 -> 115 | P3: 年 | Q3: =申請書!$W$16 -> 6 | R3: 月 | S3: =申請書!$Y$16 -> 24 | T3: 日 | U3: 止，
F4: 每星期 | G4: =申請書!$E$17 -> 三 | H4: =申請書!$G$17 -> 下 午 | J4: =申請書!$K$17 -> 7 | K4: 時 | L4: =申請書!$O$17 -> 30 | M4: 分 | O4: =申請書!$U$17 | Q4: =申請書!$W$17 -> 9 | R4: 時 | S4: =申請書!$Y$17 -> 30 | T4: 分
A5: 申請人(單位) | B5: =申請書!C45 -> 小明 | F5: =申請書!P45 -> (簽章)
A6: 汽 車
A7: 車主姓名 | B7: 車牌號碼 | G7: 車主姓名 | L7: 車牌號碼
A8: =請輸入欄位!G4 -> 小明 | B8: =請輸入欄位!H4 -> ABC-1234 | G8: =請輸入欄位!G5 -> 小明 | L8: =請輸入欄位!H5 -> ABC-1234
A9: 機 車
A10: 車主姓名 | B10: 車牌號碼 | G10: 車主姓名 | L10: 車牌號碼
A11: =請輸入欄位!K4 -> 小明 | B11: =請輸入欄位!L4 -> ABC-1234 | G11: =請輸入欄位!K14 -> 0 | L11: =請輸入欄位!L14 -> 0
A12: =請輸入欄位!K5 -> 小明 | B12: =請輸入欄位!L5 -> ABC-1234 | G12: =請輸入欄位!K15 -> 0 | L12: =請輸入欄位!L15 -> 0
A13: =請輸入欄位!K6 -> 小明 | B13: =請輸入欄位!L6 -> ABC-1234 | G13: =請輸入欄位!K16 -> 0 | L13: =請輸入欄位!L16 -> 0
A14: =請輸入欄位!K7 -> 小明 | B14: =請輸入欄位!L7 -> ABC-1234 | G14: =請輸入欄位!K17 -> 0 | L14: =請輸入欄位!L17 -> 0
A15: =請輸入欄位!K8 -> 小明 | B15: =請輸入欄位!L8 -> ABC-1234 | G15: =請輸入欄位!K18 -> 0 | L15: =請輸入欄位!L18 -> 0
A16: =請輸入欄位!K9 -> 小明 | B16: =請輸入欄位!L9 -> ABC-1234 | G16: =請輸入欄位!K19 -> 0 | L16: =請輸入欄位!L19 -> 0
A17: =請輸入欄位!K10 -> 0 | B17: =請輸入欄位!L10 -> 0 | G17: =請輸入欄位!K20 -> 0 | L17: =請輸入欄位!L20 -> 0
A18: =請輸入欄位!K11 -> 0 | B18: =請輸入欄位!L11 -> 0 | G18: =請輸入欄位!K21 -> 0 | L18: =請輸入欄位!L21 -> 0
A19: =請輸入欄位!K12 -> 0 | B19: =請輸入欄位!L12 -> 0 | G19: =請輸入欄位!K22 -> 0 | L19: =請輸入欄位!L22 -> 0
A20: =請輸入欄位!K13 -> 0 | B20: =請輸入欄位!L13 -> 0 | G20: =請輸入欄位!K23 -> 0 | L20: =請輸入欄位!L23 -> 0
A21: 繳交費用 | B21: 共計新台幣： | D21: =L22+L23 -> 1820 | F21: 元整 | G21: 注意事項： 1.臨時停汽車每小時20元(限2輛)。機車每次10元。 2.請依原申請的車號停放。 3.車輛不得改裝或卸除消音器。 4.車輛入校請依校內規定區域停放，違者依規定處理。 5.本校僅提供停車使用，不負保管及賠償責任。
A22: 汽車停車費用： | C22: 20 | D22: 元 ✕ | E22: =IF(申請書!N9=1,2,3) -> 2 | F22: 小時 ✕ | G22: =申請書!Z5 -> 13 | H22: 次 ✕ | I22: =SUMPRODUCT(--ISTEXT(A8))+SUMPRODUCT(--ISTEXT(G8)) -> 2 | J22: 台 = | L22: =C22*E22*G22*I22 -> 1040 | N22: 元
A23: 機車停車費用： | C23: 10 | D23: 元 ✕ | G23: =申請書!Z5 -> 13 | H23: 次 ✕ | I23: {=SUMPRODUCT(--ISTEXT(A11:A20))+SUMPRODUCT(--ISTEXT(G11:G20))} -> 6 | J23: 台 = | L23: =C23*G23*I23 -> 780 | N23: 元

Sheet 保證金及切結書
A1: 臺北市文山區景興國民小學校園場地使用保證金及切結書
A2: 本人借用貴校 | B2: =申請書!X2 -> 活動中心 | F2: 場地舉辦 | J2: 活動 | Q2: ，借用期間願遵守一切法令規定並
A3: 負責參加活動人員之安全，如於使用後未能即刻將場地回復原狀或損壞公物設施時，願將所預繳
A4: 之保證金新臺幣 | D4: =請輸入欄位!C22 -> 10000 | H4: 元整，全權委託貴校僱工處理，處理後如有差額願無息多退少補，
A5: 特立此據為憑。
A6: 此致
A7: 臺北市文山區景興國民小學
A8: ■個人
A9: 申請人姓名 | D9: ： | E9: =申請書!C45 -> 小明 | P9: =申請書!P45 -> (簽章)
A10: 身分證統一編號 | D10: ： | E10: =申請書!Z45 -> A111222333
A11: 地址 | D11: ： | E11: =申請書!C46 -> 臺北市文山區景華街150巷21號
A12: 電話 | D12: ： | E12: =申請書!Z46 -> 0900-000-000
A13: 中華民國 | K13: 年 | Q13: 月 | T13: 日
A14: 附記：
A15: 一、保證金室內每次預收新臺幣伍仟元整，活動中心、演藝廳及室外每次預收新臺幣壹萬元整，並以保管款科目依
A16: 會計程序存入各校專戶處理。
A17: 二、本表一式兩份，一份由借用單位填妥蓋章後自存，一份連同借用申請書送交學校存檔備查。
A18: 三、學校如有特殊需要必須收回校園場地自行使用時，得於使用日三日前，通知原申請人另議使用時間或廢止原許
A19: 可之處分，並無息退還所繳納之各項費用及保證金，申請人不得請求補償。
A20: 四、申請人取得許可後，無法如期使用者，應於使用日三日前以書面通知學校取消使用，其所繳納之各項費用及保
A21: 證金無息退還。但已發生之費用，不予退還。申請人未遵守前項期限或未通知，校園場地使用費之二分之一及
A22: 已發生之費用不予退還。若因而致學校受有損害者，申請人應負損害賠償責任。前項情形不可歸責於申請人者，
A23: 不在此限。
A24: 五、活動結束後，申請人應於學校規定之時限內將場地回復原狀交還學校。如有損壞，應即修復，並負損害賠償責
A25: 任；未修復者，學校得逕行修復，所需費用由申請人負擔。
... A53: 違反第十四款者，學校酌收場地清潔費新台幣300元。

Sheet 退費申請書及領據
A1: 退費申請書
A2: 本人租借使用貴校 | B2: =申請書!X2 -> 活動中心 | G2: 場地舉辦 | J2: 活動 | P2: ，
A3: 並已繳交保證金計新台幣 | G3: =請輸入欄位!C22 -> 10000 | L3: 元整(大寫)，
A4: 現活動圓滿結束，故申請退還保證金。
A5: 此致
A6: 臺北市文山區景興國民小學
A8: 申請人姓名 | B8: ： | C8: =申請書!C45 -> 小明 | N8: =申請書!P45 -> (簽章)
A9: 身分證統一編號 | B9: ： | C9: =申請書!Z45 -> A111222333
A10: 地址 | B10: ： | C10: =申請書!C46 -> 臺北市文山區景華街150巷21號
A11: 電話 | B11: ： | C11: =申請書!Z46 -> 0900-000-000
A12: 中華民國 | G12: 年 | K12: 月 | P12: 日
A13: ----------------------------------------------------------------
A14: 退費領據
A15: 茲收到租借使用貴校 | E15: =B2 -> 活動中心 | J15: 舉 辦 | L15: 活動
A16: 退還之保證金新臺幣 | E16: =請輸入欄位!C22 -> 10000 | J16: 元整（大寫）無訛，
A17: 特立此據為憑。
A18: 此致
A19: 臺北市文山區景興國民小學
A21: 申請人姓名 | B21: ： | C21: =C8 -> 小明 | N21: =N8 -> (簽章)
A22: 身分證統一編號 | B22: ： | C22: =C9 -> A111222333
A23: 地址 | B23: ： | C23: =C10 -> 臺北市文山區景華街150巷21號
A24: 電話 | B24: ： | C24: =申請書!Z46 -> 0900-000-000
A25: 中華民國 | G25: 年 | K25: 月 | P25: 日
